BEGIN:VCALENDAR
VERSION:2.0
PRODID:-//Orange County Astronomers - ECPv6.15.20//NONSGML v1.0//EN
CALSCALE:GREGORIAN
METHOD:PUBLISH
X-WR-CALNAME:Orange County Astronomers
X-ORIGINAL-URL:https://www.ocastronomers.org
X-WR-CALDESC:Events for Orange County Astronomers
REFRESH-INTERVAL;VALUE=DURATION:PT1H
X-Robots-Tag:noindex
X-PUBLISHED-TTL:PT1H
BEGIN:VTIMEZONE
TZID:America/Los_Angeles
BEGIN:DAYLIGHT
TZOFFSETFROM:-0800
TZOFFSETTO:-0700
TZNAME:PDT
DTSTART:20200308T100000
END:DAYLIGHT
BEGIN:STANDARD
TZOFFSETFROM:-0700
TZOFFSETTO:-0800
TZNAME:PST
DTSTART:20201101T090000
END:STANDARD
BEGIN:DAYLIGHT
TZOFFSETFROM:-0800
TZOFFSETTO:-0700
TZNAME:PDT
DTSTART:20210314T100000
END:DAYLIGHT
BEGIN:STANDARD
TZOFFSETFROM:-0700
TZOFFSETTO:-0800
TZNAME:PST
DTSTART:20211107T090000
END:STANDARD
BEGIN:DAYLIGHT
TZOFFSETFROM:-0800
TZOFFSETTO:-0700
TZNAME:PDT
DTSTART:20220313T100000
END:DAYLIGHT
BEGIN:STANDARD
TZOFFSETFROM:-0700
TZOFFSETTO:-0800
TZNAME:PST
DTSTART:20221106T090000
END:STANDARD
END:VTIMEZONE
BEGIN:VEVENT
DTSTART;TZID=America/Los_Angeles:20210219T203000
DTEND;TZID=America/Los_Angeles:20210219T220000
DTSTAMP:20260422T135345
CREATED:20210127T225127Z
LAST-MODIFIED:20210127T225217Z
UID:23796-1613766600-1613772000@www.ocastronomers.org
SUMMARY:Online Ventura County Astronomical Society's General Meeting
DESCRIPTION:This is an online event held by OCA for VCAS.\nNo prior registration is required but when entering the webinar\, zoom will ask for your name and email.\nAt the time of the meeting\, to attend via zoom app click here\, via your browser click here.\nTo install the zoom app click here.\n \n  \nViews: 1
URL:https://www.ocastronomers.org/calendar/vcas-general-meeting-2021-02/
LOCATION:Online
CATEGORIES:General Meetings,Non OCA Event
END:VEVENT
END:VCALENDAR